Workbook

Sheet (A) Info & Summary
A1: BIOMANUFACTURING TECHNOLOGY AND PARTNERSHIP (BioTAP) BUDGET TEMPLATE FOR RIE PROJECTS
A4: INSTRUCTIONS
A5: 1. Complete the proposal information and indicate if the application is for a Seed or Core Project based on the definitions provided below. 2. Enter annual amounts in S$ and provide a concise justification/basis for each requested item. Budget amounts should be rounded to the nearest S$10. 3. Use only the years applicable to the proposal. 4. The default Overheads calculation is 30% of qualifying direct costs excluding Research Scholarship. 5. Funding remains subject to the prevailing BioTAP call conditions, RIE policies and A*STAR grant rules. Please refer to the list of non-fundable direct costs in Sheet E. Note - Please do not merge/delete any rows/columns in the worksheets. - Seed Projects (Up to S$500K; 12–18 months): Seed Projects are intended to support early-stage, high-risk, high-reward research to establish proof-of-concept and technical feasibility. They may also form part of a broader, long-term research vision, laying the groundwork for more substantive R&D efforts. Projects should have clear milestones and go/no-go decision points to enable timely assessment of progress. - Core Projects (Up to S$5M; up to 3 years): Core Projects are intended to support more mature and substantive R&D efforts that address strategic biomanufacturing challenges, with a clear pathway towards translation and industry adoption. These projects should build on established scientific or technical feasibility and focus on advancing technologies or capabilities towards validation and/or industrial deployment. Proposals should demonstrate credible implementation plans, measurable deliverables and potential for tangible industry/ecosystem impact.
A12: PROPOSAL INFORMATION
A13: Project Title | E13: Lead PI
A14: Host Institution | E14: Proposal Type
A15: Project Duration (years)
A18: PARTICIPATING INSTITUTIONS
A19: Host Institution | B19: Example: NHCS | E19: Enter institutions in the left column; these names will populate the corresponding institution blocks in the Budget by Institution tab.
A20: Institution 1
A21: Institution 2
A22: Institution 3
A23: Institution 4
A24: Institution 5
A27: BUDGET SUMMARY
A28: Cost Category | B28: Year 1 | C28: Year 2 | D28: Year 3 | E28: Total | F28: Notes
A29: Manpower (EOM) | B29: =SUM('(B) Budget by Institution'!D14,'(B) Budget by Institution'!D52,'(B) Budget by Institution'!D90,'(B) Budget by Institution'!D128,'(B) Budget by Institution'!D166,'(B) Budget by Institution'!D204) -> 0 | C29: =SUM('(B) Budget by Institution'!E14,'(B) Budget by Institution'!E52,'(B) Budget by Institution'!E90,'(B) Budget by Institution'!E128,'(B) Budget by Institution'!E166,'(B) Budget by Institution'!E204) -> 0 | D29: =SUM('(B) Budget by Institution'!F14,'(B) Budget by Institution'!F52,'(B) Budget by Institution'!F90,'(B) Budget by Institution'!F128,'(B) Budget by Institution'!F166,'(B) Budget by Institution'!F204) -> 0 | E29: =SUM(B29:D29) -> 0
A30: Equipment (EQPT) | B30: =SUM('(B) Budget by Institution'!D21,'(B) Budget by Institution'!D59,'(B) Budget by Institution'!D97,'(B) Budget by Institution'!D135,'(B) Budget by Institution'!D173,'(B) Budget by Institution'!D211) -> 0 | C30: =SUM('(B) Budget by Institution'!E21,'(B) Budget by Institution'!E59,'(B) Budget by Institution'!E97,'(B) Budget by Institution'!E135,'(B) Budget by Institution'!E173,'(B) Budget by Institution'!E211) -> 0 | D30: =SUM('(B) Budget by Institution'!F21,'(B) Budget by Institution'!F59,'(B) Budget by Institution'!F97,'(B) Budget by Institution'!F135,'(B) Budget by Institution'!F173,'(B) Budget by Institution'!F211) -> 0 | E30: =SUM(B30:D30) -> 0
A31: Other Operating Expenses (OOE) | B31: =SUM('(B) Budget by Institution'!D29,'(B) Budget by Institution'!D67,'(B) Budget by Institution'!D105,'(B) Budget by Institution'!D143,'(B) Budget by Institution'!D181,'(B) Budget by Institution'!D219) -> 0 | C31: =SUM('(B) Budget by Institution'!E29,'(B) Budget by Institution'!E67,'(B) Budget by Institution'!E105,'(B) Budget by Institution'!E143,'(B) Budget by Institution'!E181,'(B) Budget by Institution'!E219) -> 0 | D31: =SUM('(B) Budget by Institution'!F29,'(B) Budget by Institution'!F67,'(B) Budget by Institution'!F105,'(B) Budget by Institution'!F143,'(B) Budget by Institution'!F181,'(B) Budget by Institution'!F219) -> 0 | E31: =SUM(B31:D31) -> 0
A32: Overseas Travel (OT) | B32: =SUM('(B) Budget by Institution'!D34,'(B) Budget by Institution'!D72,'(B) Budget by Institution'!D110,'(B) Budget by Institution'!D148,'(B) Budget by Institution'!D186,'(B) Budget by Institution'!D224) -> 0 | C32: =SUM('(B) Budget by Institution'!E34,'(B) Budget by Institution'!E72,'(B) Budget by Institution'!E110,'(B) Budget by Institution'!E148,'(B) Budget by Institution'!E186,'(B) Budget by Institution'!E224) -> 0 | D32: =SUM('(B) Budget by Institution'!F34,'(B) Budget by Institution'!F72,'(B) Budget by Institution'!F110,'(B) Budget by Institution'!F148,'(B) Budget by Institution'!F186,'(B) Budget by Institution'!F224) -> 0 | E32: =SUM(B32:D32) -> 0
A33: Research Scholarship (RS) | B33: =SUM('(B) Budget by Institution'!D39,'(B) Budget by Institution'!D77,'(B) Budget by Institution'!D115,'(B) Budget by Institution'!D153,'(B) Budget by Institution'!D191,'(B) Budget by Institution'!D229) -> 0 | C33: =SUM('(B) Budget by Institution'!E39,'(B) Budget by Institution'!E77,'(B) Budget by Institution'!E115,'(B) Budget by Institution'!E153,'(B) Budget by Institution'!E191,'(B) Budget by Institution'!E229) -> 0 | D33: =SUM('(B) Budget by Institution'!F39,'(B) Budget by Institution'!F77,'(B) Budget by Institution'!F115,'(B) Budget by Institution'!F153,'(B) Budget by Institution'!F191,'(B) Budget by Institution'!F229) -> 0 | E33: =SUM(B33:D33) -> 0
A34: Total Direct Cost | B34: =SUM('(B) Budget by Institution'!D40,'(B) Budget by Institution'!D78,'(B) Budget by Institution'!D116,'(B) Budget by Institution'!D154,'(B) Budget by Institution'!D192,'(B) Budget by Institution'!D230) -> 0 | C34: =SUM('(B) Budget by Institution'!E40,'(B) Budget by Institution'!E78,'(B) Budget by Institution'!E116,'(B) Budget by Institution'!E154,'(B) Budget by Institution'!E192,'(B) Budget by Institution'!E230) -> 0 | D34: =SUM('(B) Budget by Institution'!F40,'(B) Budget by Institution'!F78,'(B) Budget by Institution'!F116,'(B) Budget by Institution'!F154,'(B) Budget by Institution'!F192,'(B) Budget by Institution'!F230) -> 0 | E34: =SUM(B34:D34) -> 0
A35: Overheads (30% of Total Direct Cost) Excluding RS, as Overheads do not apply to RS | B35: =SUM('(B) Budget by Institution'!D41,'(B) Budget by Institution'!D79,'(B) Budget by Institution'!D117,'(B) Budget by Institution'!D155,'(B) Budget by Institution'!D193,'(B) Budget by Institution'!D231) -> 0 | C35: =SUM('(B) Budget by Institution'!E41,'(B) Budget by Institution'!E79,'(B) Budget by Institution'!E117,'(B) Budget by Institution'!E155,'(B) Budget by Institution'!E193,'(B) Budget by Institution'!E231) -> 0 | D35: =SUM('(B) Budget by Institution'!F41,'(B) Budget by Institution'!F79,'(B) Budget by Institution'!F117,'(B) Budget by Institution'!F155,'(B) Budget by Institution'!F193,'(B) Budget by Institution'!F231) -> 0 | E35: =SUM(B35:D35) -> 0
A36: GRAND TOTAL | B36: =SUM('(B) Budget by Institution'!D42,'(B) Budget by Institution'!D80,'(B) Budget by Institution'!D118,'(B) Budget by Institution'!D156,'(B) Budget by Institution'!D194,'(B) Budget by Institution'!D232) -> 0 | C36: =SUM('(B) Budget by Institution'!E42,'(B) Budget by Institution'!E80,'(B) Budget by Institution'!E118,'(B) Budget by Institution'!E156,'(B) Budget by Institution'!E194,'(B) Budget by Institution'!E232) -> 0 | D36: =SUM('(B) Budget by Institution'!F42,'(B) Budget by Institution'!F80,'(B) Budget by Institution'!F118,'(B) Budget by Institution'!F156,'(B) Budget by Institution'!F194,'(B) Budget by Institution'!F232) -> 0 | E36: =SUM(B36:D36) -> 0

Sheet (B) Budget by Institution
A1: DETAILED BUDGET BREAKDOWN BY INSTITUTION
A2: Please complete the budget for each participating institution below. Institution names are linked from the Info & Summary tab. Enter annual amounts in S$ and provide a brief justification/basis for each budget item. Do not delete or merge rows/columns. Refer to the guidelines in Sheet D (Guidelines for Categories) for more information
A3: Note: Use only the years applicable to the proposal.
A5: =IF('(A) Info & Summary'!B19="","Host Institution","Host Institution: "&'(A) Info & Summary'!B19) -> Host Institution: Example: NHCS
A6: Manpower (EOM) | B6: Qualifications | C6: No. of Headcount | D6: Year 1 | E6: Year 2 | F6: Year 3 | G6: Total (S$) | H6: Justification / Basis
A7: Project Management Lead | B7: e.g. relevant qualification / experience | D7: 0 | E7: 0 | F7: 0 | G7: =SUM(D7:F7) -> 0
A8: Postdoctoral Fellow / Senior Postdoctoral Fellow | D8: 0 | E8: 0 | F8: 0 | G8: =SUM(D8:F8) -> 0
A9: Research Assistant / Research Officer | D9: 0 | E9: 0 | F9: 0 | G9: =SUM(D9:F9) -> 0
A10: Laboratory Technician | D10: 0 | E10: 0 | F10: 0 | G10: =SUM(D10:F10) -> 0
A11: Others (please specify) | D11: 0 | E11: 0 | F11: 0 | G11: =SUM(D11:F11) -> 0
A12: Additional manpower item | D12: 0 | E12: 0 | F12: 0 | G12: =SUM(D12:F12) -> 0
A13: Additional manpower item | D13: 0 | E13: 0 | F13: 0 | G13: =SUM(D13:F13) -> 0
A14: EOM Sub-Total | D14: =SUM(D7:D13) -> 0 | E14: =SUM(E7:E13) -> 0 | F14: =SUM(F7:F13) -> 0 | G14: =SUM(D14:F14) -> 0
A15: Equipment (EQPT) | B15: No. of Equipment | D15: Year 1 | E15: Year 2 | F15: Year 3 | G15: Total (S$) | H15: Justification / Basis
D16: 0 | E16: 0 | F16: 0 | G16: =SUM(D16:F16) -> 0
D17: 0 | E17: 0 | F17: 0 | G17: =SUM(D17:F17) -> 0
D18: 0 | E18: 0 | F18: 0 | G18: =SUM(D18:F18) -> 0
D19: 0 | E19: 0 | F19: 0 | G19: =SUM(D19:F19) -> 0
D20: 0 | E20: 0 | F20: 0 | G20: =SUM(D20:F20) -> 0
A21: EQPT Sub-Total | D21: =SUM(D16:D20) -> 0 | E21: =SUM(E16:E20) -> 0 | F21: =SUM(F16:F20) -> 0 | G21: =SUM(D21:F21) -> 0
A22: Other Operating Expenses (OOE) | D22: Year 1 | E22: Year 2 | F22: Year 3 | G22: Total (S$) | H22: Justification / Basis
A23: Materials & Consumables | D23: 0 | E23: 0 | F23: 0 | G23: =SUM(D23:F23) -> 0
A24: Animal Costs (if applicable) | D24: 0 | E24: 0 | F24: 0 | G24: =SUM(D24:F24) -> 0
A25: Scientific Services / Core Facilities (if applicable) | D25: 0 | E25: 0 | F25: 0 | G25: =SUM(D25:F25) -> 0
A26: Local research-related training / conferences / publication / freight / local transport | D26: 0 | E26: 0 | F26: 0 | G26: =SUM(D26:F26) -> 0
A27: Other OOE (please specify) | D27: 0 | E27: 0 | F27: 0 | G27: =SUM(D27:F27) -> 0
A28: Additional OOE item | D28: 0 | E28: 0 | F28: 0 | G28: =SUM(D28:F28) -> 0
A29: OOE Sub-Total | D29: =SUM(D23:D28) -> 0 | E29: =SUM(E23:E28) -> 0 | F29: =SUM(F23:F28) -> 0 | G29: =SUM(D29:F29) -> 0
A30: Overseas Travel (OT) | D30: Year 1 | E30: Year 2 | F30: Year 3 | G30: Total (S$) | H30: Justification / Basis
A31: Overseas Travel Costs | D31: 0 | E31: 0 | F31: 0 | G31: =SUM(D31:F31) -> 0
A32: Additional travel item | D32: 0 | E32: 0 | F32: 0 | G32: =SUM(D32:F32) -> 0
A33: Additional travel item | D33: 0 | E33: 0 | F33: 0 | G33: =SUM(D33:F33) -> 0
A34: OT Sub-Total | D34: =SUM(D31:D33) -> 0 | E34: =SUM(E31:E33) -> 0 | F34: =SUM(F31:F33) -> 0 | G34: =SUM(D34:F34) -> 0
A35: Research Scholarship (RS) | D35: Year 1 | E35: Year 2 | F35: Year 3 | G35: Total (S$) | H35: Justification / Basis
A36: Research Scholarship Costs | D36: 0 | E36: 0 | F36: 0 | G36: =SUM(D36:F36) -> 0
A37: Additional scholarship item | D37: 0 | E37: 0 | F37: 0 | G37: =SUM(D37:F37) -> 0
A38: Additional scholarship item | D38: 0 | E38: 0 | F38: 0 | G38: =SUM(D38:F38) -> 0
A39: RS Sub-Total | D39: =SUM(D36:D38) -> 0 | E39: =SUM(E36:E38) -> 0 | F39: =SUM(F36:F38) -> 0 | G39: =SUM(D39:F39) -> 0
A40: TOTAL DIRECT COSTS (INCLUDING RS) | D40: =D14+D21+D29+D34+D39 -> 0 | E40: =E14+E21+E29+E34+E39 -> 0 | F40: =F14+F21+F29+F34+F39 -> 0 | G40: =G14+G21+G29+G34+G39 -> 0
A41: Overheads (30% of direct except RS budget) ^Overheads do not apply to RS | D41: =30%*(D40-D39) -> 0 | E41: =30%*(E40-E39) -> 0 | F41: =30%*(F40-F39) -> 0 | G41: =30%*(G40-G39) -> 0
...

Sheet (C) Institution Summary
A1: BUDGET SUMMARY BY INSTITUTION
A3: This sheet summarises the detailed budget by institution. No manual entry is required here; institution names are drawn from the Info & Summary tab.
A6: Institution | B6: EOM | C6: EQPT | D6: OOE | E6: OT | F6: RS | G6: Direct Costs | H6: Overheads | I6: Grand Total*
A7: =IF('(A) Info & Summary'!B19="","",'(A) Info & Summary'!B19) -> Example: NHCS | B7: =IF($A7="",0,'(B) Budget by Institution'!G14) -> 0 | C7: =IF($A7="",0,'(B) Budget by Institution'!G21) -> 0 | D7: =IF($A7="",0,'(B) Budget by Institution'!G29) -> 0 | E7: =IF($A7="",0,'(B) Budget by Institution'!G34) -> 0 | F7: =IF($A7="",0,'(B) Budget by Institution'!G39) -> 0 | G7: =IF($A7="",0,'(B) Budget by Institution'!G40) -> 0 | H7: =IF($A7="",0,'(B) Budget by Institution'!G41) -> 0 | I7: =IF($A7="",0,'(B) Budget by Institution'!G42) -> 0
A8: =IF('(A) Info & Summary'!B20="","",'(A) Info & Summary'!B20) | B8: =IF($A8="",0,'(B) Budget by Institution'!G52) -> 0 | C8: =IF($A8="",0,'(B) Budget by Institution'!G59) -> 0 | D8: =IF($A8="",0,'(B) Budget by Institution'!G67) -> 0 | E8: =IF($A8="",0,'(B) Budget by Institution'!G72) -> 0 | F8: =IF($A8="",0,'(B) Budget by Institution'!G77) -> 0 | G8: =IF($A8="",0,'(B) Budget by Institution'!G78) -> 0 | H8: =IF($A8="",0,'(B) Budget by Institution'!G79) -> 0 | I8: =IF($A8="",0,'(B) Budget by Institution'!G80) -> 0
A9: =IF('(A) Info & Summary'!B21="","",'(A) Info & Summary'!B21) | B9: =IF($A9="",0,'(B) Budget by Institution'!G90) -> 0 | C9: =IF($A9="",0,'(B) Budget by Institution'!G97) -> 0 | D9: =IF($A9="",0,'(B) Budget by Institution'!G105) -> 0 | E9: =IF($A9="",0,'(B) Budget by Institution'!G110) -> 0 | F9: =IF($A9="",0,'(B) Budget by Institution'!G115) -> 0 | G9: =IF($A9="",0,'(B) Budget by Institution'!G116) -> 0 | H9: =IF($A9="",0,'(B) Budget by Institution'!G117) -> 0 | I9: =IF($A9="",0,'(B) Budget by Institution'!G118) -> 0
A10: =IF('(A) Info & Summary'!B22="","",'(A) Info & Summary'!B22) | B10: =IF($A10="",0,'(B) Budget by Institution'!G128) -> 0 | C10: =IF($A10="",0,'(B) Budget by Institution'!G135) -> 0 | D10: =IF($A10="",0,'(B) Budget by Institution'!G143) -> 0 | E10: =IF($A10="",0,'(B) Budget by Institution'!G148) -> 0 | F10: =IF($A10="",0,'(B) Budget by Institution'!G153) -> 0 | G10: =IF($A10="",0,'(B) Budget by Institution'!G154) -> 0 | H10: =IF($A10="",0,'(B) Budget by Institution'!G155) -> 0 | I10: =IF($A10="",0,'(B) Budget by Institution'!G156) -> 0
A11: =IF('(A) Info & Summary'!B23="","",'(A) Info & Summary'!B23) | B11: =IF($A11="",0,'(B) Budget by Institution'!G166) -> 0 | C11: =IF($A11="",0,'(B) Budget by Institution'!G173) -> 0 | D11: =IF($A11="",0,'(B) Budget by Institution'!G181) -> 0 | E11: =IF($A11="",0,'(B) Budget by Institution'!G186) -> 0 | F11: =IF($A11="",0,'(B) Budget by Institution'!G191) -> 0 | G11: =IF($A11="",0,'(B) Budget by Institution'!G192) -> 0 | H11: =IF($A11="",0,'(B) Budget by Institution'!G193) -> 0 | I11: =IF($A11="",0,'(B) Budget by Institution'!G194) -> 0
A12: =IF('(A) Info & Summary'!B24="","",'(A) Info & Summary'!B24) | B12: =IF($A12="",0,'(B) Budget by Institution'!G204) -> 0 | C12: =IF($A12="",0,'(B) Budget by Institution'!G211) -> 0 | D12: =IF($A12="",0,'(B) Budget by Institution'!G219) -> 0 | E12: =IF($A12="",0,'(B) Budget by Institution'!G224) -> 0 | F12: =IF($A12="",0,'(B) Budget by Institution'!G229) -> 0 | G12: =IF($A12="",0,'(B) Budget by Institution'!G230) -> 0 | H12: =IF($A12="",0,'(B) Budget by Institution'!G231) -> 0 | I12: =IF($A12="",0,'(B) Budget by Institution'!G232) -> 0
A13: TOTAL | B13: =SUM(B7:B12) -> 0 | C13: =SUM(C7:C12) -> 0 | D13: =SUM(D7:D12) -> 0 | E13: =SUM(E7:E12) -> 0 | F13: =SUM(F7:F12) -> 0 | G13: =SUM(G7:G12) -> 0 | H13: =SUM(H7:H12) -> 0 | I13: =SUM(I7:I12) -> 0

Sheet (D) Guidelines for Categories
A2: (A) EOM Please detail specific contribution of each staff to the deliverables as well as consult your respective HR for the amount to budget for each staff.
A3: (B) EQPT Please provide reasons to justify and support the need to purchase each piece of equipment, e.g. if there are existing equipments, please explain why the existing equipment is not suitable or unavailable for the project. Include how each requested equipment will tie to the project objectives/milestones/KPIs in the justifications. A quotation is required for equipment ≥ SGD 100,000. Please note that the project may be asked to provide quotation for equipment <SGD100,000.
A4: (C) OOE Please provide justifications for the items requested. Please note that the project may be asked to provide quotations for high-cost OOE items. • Animal Cost: Please provide a breakdown of the proposed animal cost, e.g. number of mice and/or cages. • Use of Scientific Services: Please provide details of the type of Scientific Services required (e.g. microscopy, sequencing services, etc) and why these services are required for the project. • Others: Please provide details (e.g. how many local conferences/training the staff employed under the grant will be attending or how many journal articles will be published for this project, etc).
A5: (D) Overseas Travel The purpose of the travel should be directly relevant to the Research and necessary to accomplish the Research objectives. Please include details such as the purpose of the trip and which Research objectives/KPIs will be met with these trips.
A6: (E) Research Scholarship (RS) The purpose of the research scholarship should be directly relevant to the Research and necessary to accomplish the Research objectives. Postgraduate stipend must align with the prevailing rates set by the Ministry of Education, and only subsidised tuition fees are supportable under RS. All expenses budgeted under the RS will not attract overheads. Please include details such as the number of Masters/PHD students to be supported and the specific contribution of each student to the deliverables.

Sheet (E) Non-fundable Direct Costs
A1: VII. NON-FUNDABLE CATEGORIES (FOR REFERENCE)
A2: For the list of non-fundable direct costs, please refer to the NRF Grant Rules wef 1 Nov 2026.
A4: S/N | B4: Type of Expenses | C4: Description
A5: 1 | B5: Salaries of Programme Director/ Lead Principal Investigators/ Project Leads and Investigators | C5: Not eligible, unless the payment of such salaries (a) is justified based on the criticality of the Investigator’s involvement, which cannot be covered by institutional resources, and (b) is approved by the Grantor in writing. Rationale: Salaries for Programme Director/ Lead Principal Investigators/ Project Leads and Investigators are typically funded by their employing institutions or from the institutional budget or capitation grants. Charging these salaries to grants would result in Double-dipping.
A6: 2 | B6: Salaries of teaching staff and teaching substitutes | C6: Not eligible. Rationale: Teaching duties are part of the institution’s normal operations and are funded through institutional budgets or capitation grants.
A7: 3 | B7: Undergraduate tuition support | C7: Not eligible. Rationale: Tuition fees are educational expenses, not costs that directly contribute to the RIE Programme / RIE Project’s deliverables or outcomes.
A8: 4 | B8: Salaries of general administrative staff | C8: Not eligible. Rationale: General administrative staff (e.g. human resource, finance, procurement, research support office etc) provide institutional support services and their salaries are part of the institution’s operating expenses, which are typically funded through indirect costs or the institutional budget. Exception: Such expenses may be charged as direct costs only for RIE Programme where the administrative staff is not part of the Host Institution’s or Partner Institution’s central administrative function and is not supported through indirect cost funding. The role must perform a distinct function essential to the execution of the RIE Programme. Such expenses must be explicitly approved by the Grantor in the Letter of Award. To avoid any double-funding, administrative expenses approved as direct costs under this exception shall not be claimed under indirect costs, nor shall they attach any indirect cost recovery.
A9: 5 | B9: Costs related to general administration and management | C9: Not eligible, unless the Grantor has provided approval in writing for such indirect costs to be fully funded. Rationale: These costs cover broad institutional functions such as human resource, procurement, and governance, which are not specific to the RIE Programme / RIE Project. Such costs are part of the institution’s operating expenses, typically funded through indirect costs or other internal budgets. Such costs include common office equipment, such as furniture and fittings, office software, photocopiers, scanners and office supplies.
A10: 6 | B10: Costs of office or laboratory space | C10: Not eligible. Rationale: This is an indirect cost that should be funded from the provided indirect costs or from other funding sources. Such costs include renovation/outfitting costs, rent, depreciation of buildings and equipment, and related expenditures such as water, electricity, general waste disposal and building/facilities maintenance charges. Exception: Such expenses are allowed only if the Grantor has provided approval in writing for such indirect costs to be fully funded.
A11: 7 | B11: Personal productivity tools & communication expenses | C11: Not eligible. Rationale: Such expenses are indirect costs because they do not directly contribute to the RIE Programme’s / RIE Project’s objectives or deliverables. Exception: Such expenses, e.g. collaboration software, video-conferencing equipment, and similar devices or services, may be funded under direct costs only if the utilisation directly supports the RIE Programme / RIE Project and the Grantor has provided approval in writing for such costs to be funded.
A12: 8 | B12: Costs of Entertainment | C12: Not eligible. Rationale: Such expenses (e.g. meals, social events) are discretionary and do not advance the objectives of the RIE Programme / RIE Project.
A13: 9 | B13: Costs of Refreshments | C13: Not eligible. Rationale: Such expenses (e.g. snacks, meals) are hospitality or welfare expenses, and do not directly contribute to the RIE Programme’s / RIE Project’s deliverables. Exception: Refreshments may be allowed only if they are directly linked to a RIE Programme / RIE Project-related event (e.g. a hosted conference or workshop), are not coverable by other indirect costs or sources of funding and are approved by the Grantor in writing.
A14: 10 | B14: Audit fees (Internal and external audit) and Legal fees | C14: Not eligible. Rationale: This is an indirect cost that should be funded from the provided indirect costs or from other funding sources.
A15: 11 | B15: Costs for staff retreats and team-building activities | C15: Not eligible. Rationale: These are discretionary employee welfare and organisational development expenses and should be supported through institutional resources, indirect costs, or other non-grant funding sources.
A16: 12 | B16: Professional Membership Fees | C16: Not eligible. Explanation: Such costs are institutional or personal development expenses and are not directly tied to the RIE Programme’s or RIE Project’s objectives or deliverables. Such costs may be covered by the institution’s overheads. Rationale: Such expenses may be allowed only if they are incurred in relation to participation in a research-related conference or workshop and are approved by the Grantor in writing.
... A18: 14 | B18: Costs of Patent Application | C18: Not eligible. Rationale: Intellectual Property management, including patent filing, maintenance and other related costs are generally supported through indirect costs or institutional core funding provided to the Innovation and Enterprise Office (IEO). As Intellectual Property management is an institutional function, such costs should not be charged directly to the RIE Programme / RIE Project.

Sheet _Lists
A1: Manpower (EOM) | C1: 30% of qualifying direct costs (excl. RS) | D1: Seed
A2: Equipment (EQPT) | B2: Personnel salary/benefits | C2: Manual / approved basis | D2: Core
A3: Other Operating Expenses (OOE) | B3: Equipment purchase
A4: Overseas Travel (OT) | B4: Materials & consumables
A5: Research Scholarship (RS) | B5: Scientific services
A6: Other (subject to approval) | B6: Animal costs
B7: Local training/conferences/publication
B8: Travel/airfare/accommodation
B9: Scholarship stipend/tuition
B10: Other
